BEGIN:VCALENDAR
VERSION:2.0
PRODID:-//BusinessLink.ch/BL2//DE
CALSCALE:GREGORIAN
METHOD:PUBLISH
BEGIN:VEVENT
SUMMARY:Geburtstag von Rene Haelg
DESCRIPTION:Detailseite bei BusinessLink.ch: https://www.businesslink.ch/portrait/rene_haelg
DTSTAMP:20260421T175300Z
UID:191842210020260000@businesslink.ch
DTSTART:19590530T000000
DTEND:19590530T00000
END:VEVENT
END:VCALENDAR
