BEGIN:VCALENDAR
VERSION:2.0
PRODID:-//BusinessLink.ch/BL2//DE
CALSCALE:GREGORIAN
METHOD:PUBLISH
BEGIN:VEVENT
SUMMARY:LEARNTEC
DESCRIPTION:Detailseite bei BusinessLink.ch: https://www.businesslink.ch/messeguide/learntec
LOCATION:Karlsruhe
DTSTAMP:20260420T011100Z
UID:10582200020260000@businesslink.ch
DTSTART:20260505T000000
DTEND:20260508T00000
END:VEVENT
END:VCALENDAR
