BEGIN:VCALENDAR
VERSION:2.0
PRODID:-//BusinessLink.ch/BL2//DE
CALSCALE:GREGORIAN
METHOD:PUBLISH
BEGIN:VEVENT
SUMMARY:IFAT
DESCRIPTION:Detailseite bei BusinessLink.ch: https://www.businesslink.ch/messeguide/ifat
LOCATION:Neue Messe Muenchen
DTSTAMP:20260420T011200Z
UID:10467200020260000@businesslink.ch
DTSTART:20260504T000000
DTEND:20260508T00000
END:VEVENT
END:VCALENDAR
