BEGIN:VCALENDAR
VERSION:2.0
PRODID:-//BusinessLink.ch/BL2//DE
CALSCALE:GREGORIAN
METHOD:PUBLISH
BEGIN:VEVENT
SUMMARY:spoga+gafa - Die Gartenmesse
DESCRIPTION:Detailseite bei BusinessLink.ch: https://www.businesslink.ch/messeguide/spogaundgafa_-_die_gartenmesse
LOCATION:Koeln
DTSTAMP:20260422T072500Z
UID:10437220020260000@businesslink.ch
DTSTART:20260622T000000
DTEND:20260625T00000
END:VEVENT
END:VCALENDAR
