BEGIN:VCALENDAR
VERSION:2.0
PRODID:-//BusinessLink.ch/BL2//DE
CALSCALE:GREGORIAN
METHOD:PUBLISH
BEGIN:VEVENT
SUMMARY:InterTabac & InterSupply
DESCRIPTION:Detailseite bei BusinessLink.ch: https://www.businesslink.ch/messeguide/intertabac_und_intersupply
LOCATION:Dortmund
DTSTAMP:20260423T165200Z
UID:10388230020260000@businesslink.ch
DTSTART:20260915T000000
DTEND:20260918T00000
END:VEVENT
END:VCALENDAR
