BEGIN:VCALENDAR
VERSION:2.0
PRODID:-//BusinessLink.ch/BL2//DE
CALSCALE:GREGORIAN
METHOD:PUBLISH
BEGIN:VEVENT
SUMMARY:Lieferung von Hilfsbetriebeumrichter
DESCRIPTION:Detailseite bei BusinessLink.ch: https://www.businesslink.ch/Ausschreibungen/lieferung_von_hilfsbetriebeumrichter
DTSTAMP:20260424T021400
UID:68705240020260000@businesslink.ch
DTSTART:20260630T160000
END:VEVENT
END:VCALENDAR
