BEGIN:VCALENDAR
VERSION:2.0
PRODID:-//BusinessLink.ch/BL2//DE
CALSCALE:GREGORIAN
METHOD:PUBLISH
BEGIN:VEVENT
SUMMARY:(24018) 609 Professional Services Public Cloud
DESCRIPTION:Detailseite bei BusinessLink.ch: https://www.businesslink.ch/Ausschreibungen/24018_609_professional_services_public_c
DTSTAMP:20260424T032000
UID:68704240020260000@businesslink.ch
DTSTART:20260608T235900
END:VEVENT
END:VCALENDAR
