BEGIN:VCALENDAR
VERSION:2.0
PRODID:-//BusinessLink.ch/BL2//DE
CALSCALE:GREGORIAN
METHOD:PUBLISH
BEGIN:VEVENT
SUMMARY:B.10520 USZ Heizung Ertuechtigung I BKP 294 HLK Ingenieur | OV
DESCRIPTION:Detailseite bei BusinessLink.ch: https://www.businesslink.ch/Ausschreibungen/b10520_usz_heizung_ertuechtigung_i_bkp_2
DTSTAMP:20260424T020700
UID:68699240020260000@businesslink.ch
DTSTART:20260601T160000
END:VEVENT
END:VCALENDAR
