BEGIN:VCALENDAR
VERSION:2.0
PRODID:-//BusinessLink.ch/BL2//DE
CALSCALE:GREGORIAN
METHOD:PUBLISH
BEGIN:VEVENT
SUMMARY:Mobile Netzersatzanlage 2026
DESCRIPTION:Detailseite bei BusinessLink.ch: https://www.businesslink.ch/Ausschreibungen/mobile_netzersatzanlage_2026
DTSTAMP:20260424T020400
UID:68698240020260000@businesslink.ch
DTSTART:20260603T235900
END:VEVENT
END:VCALENDAR
