BEGIN:VCALENDAR
VERSION:2.0
PRODID:-//BusinessLink.ch/BL2//DE
CALSCALE:GREGORIAN
METHOD:PUBLISH
BEGIN:VEVENT
SUMMARY:Erneuereung Transformator 10-16 kV - Gondo
DESCRIPTION:Detailseite bei BusinessLink.ch: https://www.businesslink.ch/Ausschreibungen/erneuereung_transformator_10-16_kv_-_gon
DTSTAMP:20260422T095100
UID:68686220020260000@businesslink.ch
DTSTART:20260601T120000
END:VEVENT
END:VCALENDAR
