BEGIN:VCALENDAR
VERSION:2.0
PRODID:-//BusinessLink.ch/BL2//DE
CALSCALE:GREGORIAN
METHOD:PUBLISH
BEGIN:VEVENT
SUMMARY:Wellenbremsscheiben Fahrzeuge IC2000 & ICN
DESCRIPTION:Detailseite bei BusinessLink.ch: https://www.businesslink.ch/Ausschreibungen/wellenbremsscheiben_fahrzeuge_ic2000_und
DTSTAMP:20260421T132200
UID:68682210020260000@businesslink.ch
DTSTART:20260601T150000
END:VEVENT
END:VCALENDAR
