BEGIN:VCALENDAR
VERSION:2.0
PRODID:-//BusinessLink.ch/BL2//DE
CALSCALE:GREGORIAN
METHOD:PUBLISH
BEGIN:VEVENT
SUMMARY:Machbarkeitsstudie Ersatz/Umbau Werkstatt und Lager
DESCRIPTION:Detailseite bei BusinessLink.ch: https://www.businesslink.ch/Ausschreibungen/machbarkeitsstudie_ersatz_umbau_werkstat
DTSTAMP:20260421T121800
UID:68677210020260000@businesslink.ch
DTSTART:20260513T120000
END:VEVENT
END:VCALENDAR
