BEGIN:VCALENDAR
VERSION:2.0
PRODID:-//BusinessLink.ch/BL2//DE
CALSCALE:GREGORIAN
METHOD:PUBLISH
BEGIN:VEVENT
SUMMARY:Kits fuer Kids: Lieferung von Projektionstischen (LPT)
DESCRIPTION:Detailseite bei BusinessLink.ch: https://www.businesslink.ch/Ausschreibungen/kits_fuer_kids_lieferung_von_projektions
DTSTAMP:20260421T120300
UID:68667210020260000@businesslink.ch
DTSTART:20260602T170000
END:VEVENT
END:VCALENDAR
