BEGIN:VCALENDAR
VERSION:2.0
PRODID:-//BusinessLink.ch/BL2//DE
CALSCALE:GREGORIAN
METHOD:PUBLISH
BEGIN:VEVENT
SUMMARY:Beschaffung einer neuen Netzwerkplattform
DESCRIPTION:Detailseite bei BusinessLink.ch: https://www.businesslink.ch/Ausschreibungen/beschaffung_einer_neuen_netzwerkplattfor
DTSTAMP:20260421T120300
UID:68666210020260000@businesslink.ch
DTSTART:20260601T120000
END:VEVENT
END:VCALENDAR
