BEGIN:VCALENDAR
VERSION:2.0
PRODID:-//BusinessLink.ch/BL2//DE
CALSCALE:GREGORIAN
METHOD:PUBLISH
BEGIN:VEVENT
SUMMARY:Laufen - Neubau Naubruecke / Teilobjekt Stuetzmauer SBB
DESCRIPTION:Detailseite bei BusinessLink.ch: https://www.businesslink.ch/Ausschreibungen/laufen_-_neubau_naubruecke__teilobjekt_s
DTSTAMP:20260421T121800
UID:68663210020260000@businesslink.ch
DTSTART:20260507T150000
END:VEVENT
END:VCALENDAR
