BEGIN:VCALENDAR
VERSION:2.0
PRODID:-//BusinessLink.ch/BL2//DE
CALSCALE:GREGORIAN
METHOD:PUBLISH
BEGIN:VEVENT
SUMMARY:(26030) 620 BBL Agenturpool 3.0
DESCRIPTION:Detailseite bei BusinessLink.ch: https://www.businesslink.ch/Ausschreibungen/26030_620_bbl_agenturpool_30
DTSTAMP:20260421T120400
UID:68661210020260000@businesslink.ch
DTSTART:20260526T235900
END:VEVENT
END:VCALENDAR
