BEGIN:VCALENDAR
VERSION:2.0
PRODID:-//BusinessLink.ch/BL2//DE
CALSCALE:GREGORIAN
METHOD:PUBLISH
BEGIN:VEVENT
SUMMARY:Ersatz Client Hardware
DESCRIPTION:Detailseite bei BusinessLink.ch: https://www.businesslink.ch/Ausschreibungen/ersatz_client_hardware
DTSTAMP:20260421T104900
UID:68659210020260000@businesslink.ch
DTSTART:20260527T120000
END:VEVENT
END:VCALENDAR
