BEGIN:VCALENDAR
VERSION:2.0
PRODID:-//BusinessLink.ch/BL2//DE
CALSCALE:GREGORIAN
METHOD:PUBLISH
BEGIN:VEVENT
SUMMARY:Sanierung Primarschule Wiedlisbach
DESCRIPTION:Detailseite bei BusinessLink.ch: https://www.businesslink.ch/Ausschreibungen/sanierung_primarschule_wiedlisbach
DTSTAMP:20260421T120300
UID:68655210020260000@businesslink.ch
DTSTART:20260521T235900
END:VEVENT
END:VCALENDAR
