BEGIN:VCALENDAR
VERSION:2.0
PRODID:-//BusinessLink.ch/BL2//DE
CALSCALE:GREGORIAN
METHOD:PUBLISH
BEGIN:VEVENT
SUMMARY:Submission iPads und Jamf
DESCRIPTION:Detailseite bei BusinessLink.ch: https://www.businesslink.ch/Ausschreibungen/submission_ipads_und_jamf
DTSTAMP:20260420T082400
UID:68652200020260000@businesslink.ch
DTSTART:20260527T110000
END:VEVENT
END:VCALENDAR
