BEGIN:VCALENDAR
VERSION:2.0
PRODID:-//BusinessLink.ch/BL2//DE
CALSCALE:GREGORIAN
METHOD:PUBLISH
BEGIN:VEVENT
SUMMARY:Schaltanlagen GWW Hardhof
DESCRIPTION:Detailseite bei BusinessLink.ch: https://www.businesslink.ch/Ausschreibungen/schaltanlagen_gww_hardhof
DTSTAMP:20260423T062100
UID:68651230020260000@businesslink.ch
DTSTART:20260601T100000
END:VEVENT
END:VCALENDAR
