BEGIN:VCALENDAR
VERSION:2.0
PRODID:-//BusinessLink.ch/BL2//DE
CALSCALE:GREGORIAN
METHOD:PUBLISH
BEGIN:VEVENT
SUMMARY:Archivaufbereitung Universitaere Psychiatrische Dienste (UPD) Waldau
DESCRIPTION:Detailseite bei BusinessLink.ch: https://www.businesslink.ch/Ausschreibungen/archivaufbereitung_universitaere_psychia
DTSTAMP:20260421T104900
UID:68643210020260000@businesslink.ch
DTSTART:20260616T235900
END:VEVENT
END:VCALENDAR
