BEGIN:VCALENDAR
VERSION:2.0
PRODID:-//BusinessLink.ch/BL2//DE
CALSCALE:GREGORIAN
METHOD:PUBLISH
BEGIN:VEVENT
SUMMARY:2025-007 Digital Signage
DESCRIPTION:Detailseite bei BusinessLink.ch: https://www.businesslink.ch/Ausschreibungen/2025-007_digital_signage
DTSTAMP:20260420T082900
UID:68639200020260000@businesslink.ch
DTSTART:20260526T120000
END:VEVENT
END:VCALENDAR
