BEGIN:VCALENDAR
VERSION:2.0
PRODID:-//BusinessLink.ch/BL2//DE
CALSCALE:GREGORIAN
METHOD:PUBLISH
BEGIN:VEVENT
SUMMARY:Ersatzbeschaffung CT
DESCRIPTION:Detailseite bei BusinessLink.ch: https://www.businesslink.ch/Ausschreibungen/ersatzbeschaffung_ct
DTSTAMP:20260421T145300
UID:68576210020260000@businesslink.ch
DTSTART:20260512T120000
END:VEVENT
END:VCALENDAR
