BEGIN:VCALENDAR
VERSION:2.0
PRODID:-//BusinessLink.ch/BL2//DE
CALSCALE:GREGORIAN
METHOD:PUBLISH
BEGIN:VEVENT
SUMMARY:Sicherungsanlagen fuer das Suednetz
DESCRIPTION:Detailseite bei BusinessLink.ch: https://www.businesslink.ch/Ausschreibungen/sicherungsanlagen_fuer_das_suednetz
DTSTAMP:20260422T095000
UID:68552220020260000@businesslink.ch
DTSTART:20260605T235900
END:VEVENT
END:VCALENDAR
