BEGIN:VCALENDAR
VERSION:2.0
PRODID:-//BusinessLink.ch/BL2//DE
CALSCALE:GREGORIAN
METHOD:PUBLISH
BEGIN:VEVENT
SUMMARY:Beschaffung von Erdungsstangen
DESCRIPTION:Detailseite bei BusinessLink.ch: https://www.businesslink.ch/Ausschreibungen/beschaffung_von_erdungsstangen
DTSTAMP:20260421T120300
UID:68537210020260000@businesslink.ch
DTSTART:20260508T235900
END:VEVENT
END:VCALENDAR
