BEGIN:VCALENDAR
VERSION:2.0
PRODID:-//BusinessLink.ch/BL2//DE
CALSCALE:GREGORIAN
METHOD:PUBLISH
BEGIN:VEVENT
SUMMARY:Sicherungsanlagen Versam - Thusis
DESCRIPTION:Detailseite bei BusinessLink.ch: https://www.businesslink.ch/Ausschreibungen/sicherungsanlagen_versam_-_thusis
DTSTAMP:20260422T100000
UID:68342220020260000@businesslink.ch
DTSTART:20260619T235900
END:VEVENT
END:VCALENDAR
